Package: MOFA2 Version: 1.20.0 Command: /home/biocbuild/bbs-3.22-bioc/R/bin/R CMD build --keep-empty-dirs --no-resave-data --md5 MOFA2 StartedAt: 2025-11-13 18:50:50 -0500 (Thu, 13 Nov 2025) EndedAt: 2025-11-13 18:52:34 -0500 (Thu, 13 Nov 2025) EllapsedTime: 104.1 seconds RetCode: 0 Status: OK PackageFile: MOFA2_1.20.0.tar.gz PackageFileSize: 4.466 MiB