Package: MOFA2 Version: 1.20.0 Command: /Library/Frameworks/R.framework/Resources/bin/R CMD INSTALL MOFA2 StartedAt: 2025-11-10 15:08:23 -0500 (Mon, 10 Nov 2025) EndedAt: 2025-11-10 15:08:33 -0500 (Mon, 10 Nov 2025) EllapsedTime: 9.4 seconds RetCode: 0 Status: OK