Package: MOFA2 Version: 1.20.0 Command: /Library/Frameworks/R.framework/Resources/bin/R CMD build --keep-empty-dirs --no-resave-data MOFA2 StartedAt: 2025-11-10 17:04:56 -0500 (Mon, 10 Nov 2025) EndedAt: 2025-11-10 17:05:48 -0500 (Mon, 10 Nov 2025) EllapsedTime: 51.6 seconds RetCode: 1 Status: ERROR PackageFile: None PackageFileSize: NA