Package: MODA Version: 1.36.0 Command: /home/biocbuild/bbs-3.22-bioc/R/bin/R CMD INSTALL MODA StartedAt: 2025-11-11 15:48:26 -0500 (Tue, 11 Nov 2025) EndedAt: 2025-11-11 15:48:45 -0500 (Tue, 11 Nov 2025) EllapsedTime: 19.2 seconds RetCode: 0 Status: OK