Package: MODA Version: 1.36.0 Command: /home/biocbuild/bbs-3.22-bioc/R/bin/R CMD build --keep-empty-dirs --no-resave-data --md5 MODA StartedAt: 2025-11-11 18:52:27 -0500 (Tue, 11 Nov 2025) EndedAt: 2025-11-11 18:52:28 -0500 (Tue, 11 Nov 2025) EllapsedTime: 1.0 seconds RetCode: 0 Status: OK PackageFile: MODA_1.36.0.tar.gz PackageFileSize: 297 KiB