Package: MODA Version: 1.36.0 Command: /Library/Frameworks/R.framework/Resources/bin/R CMD INSTALL MODA StartedAt: 2025-11-03 15:40:11 -0500 (Mon, 03 Nov 2025) EndedAt: 2025-11-03 15:40:39 -0500 (Mon, 03 Nov 2025) EllapsedTime: 28.1 seconds RetCode: 0 Status: OK