Package: MODA Version: 1.36.0 Command: /Library/Frameworks/R.framework/Resources/bin/R CMD build --keep-empty-dirs --no-resave-data MODA StartedAt: 2025-11-03 17:49:05 -0500 (Mon, 03 Nov 2025) EndedAt: 2025-11-03 17:49:07 -0500 (Mon, 03 Nov 2025) EllapsedTime: 2.3 seconds RetCode: 0 Status: OK PackageFile: MODA_1.36.0.tar.gz PackageFileSize: 296.2 KiB