Package: MODA Version: 1.34.0 Command: /home/biocbuild/R/R/bin/R CMD INSTALL MODA StartedAt: 2025-10-09 21:04:57 -0000 (Thu, 09 Oct 2025) EndedAt: 2025-10-09 21:05:26 -0000 (Thu, 09 Oct 2025) EllapsedTime: 28.2 seconds RetCode: 0 Status: OK