Package: MMUPHin Version: 1.24.0 Command: /home/biocbuild/bbs-3.22-bioc/R/bin/R CMD INSTALL MMUPHin StartedAt: 2025-11-06 15:14:02 -0500 (Thu, 06 Nov 2025) EndedAt: 2025-11-06 15:14:10 -0500 (Thu, 06 Nov 2025) EllapsedTime: 8.2 seconds RetCode: 0 Status: OK