Package: MMDiff2 Version: 1.38.0 Command: /home/biocbuild/R/R/bin/R CMD INSTALL MMDiff2 StartedAt: 2025-11-10 21:36:35 -0000 (Mon, 10 Nov 2025) EndedAt: 2025-11-10 21:37:27 -0000 (Mon, 10 Nov 2025) EllapsedTime: 52.0 seconds RetCode: 0 Status: OK