Package: MMDiff2 Version: 1.38.0 Command: /home/biocbuild/R/R/bin/R CMD build --keep-empty-dirs --no-resave-data MMDiff2 StartedAt: 2025-11-11 03:21:50 -0000 (Tue, 11 Nov 2025) EndedAt: 2025-11-11 03:24:05 -0000 (Tue, 11 Nov 2025) EllapsedTime: 134.1 seconds RetCode: 0 Status: OK PackageFile: MMDiff2_1.38.0.tar.gz PackageFileSize: 2.839 MiB