Package: MMDiff2 Version: 1.36.0 Command: chmod a+r MMDiff2 -R && E:\biocbuild\bbs-3.21-bioc\R\bin\R.exe CMD build --keep-empty-dirs --no-resave-data MMDiff2 StartedAt: 2025-08-14 20:30:22 -0400 (Thu, 14 Aug 2025) EndedAt: 2025-08-14 20:33:35 -0400 (Thu, 14 Aug 2025) EllapsedTime: 192.7 seconds RetCode: 0 Status: OK PackageFile: MMDiff2_1.36.0.tar.gz PackageFileSize: 2.871 MiB