Package: MMDiff2 Version: 1.38.0 Command: /home/biocbuild/bbs-3.22-bioc/R/bin/R CMD check --install=check:MMDiff2.install-out.txt --library=/home/biocbuild/bbs-3.22-bioc/R/site-library --timings MMDiff2_1.38.0.tar.gz StartedAt: 2025-11-12 01:38:31 -0500 (Wed, 12 Nov 2025) EndedAt: 2025-11-12 01:44:43 -0500 (Wed, 12 Nov 2025) EllapsedTime: 372.3 seconds RetCode: 0 Status: OK CheckDir: MMDiff2.Rcheck Warnings: 0