Package: MLSeq Version: 2.28.0 Command: /home/biocbuild/bbs-3.22-bioc/R/bin/R CMD INSTALL MLSeq StartedAt: 2025-11-11 15:26:00 -0500 (Tue, 11 Nov 2025) EndedAt: 2025-11-11 15:26:35 -0500 (Tue, 11 Nov 2025) EllapsedTime: 34.2 seconds RetCode: 0 Status: OK