Package: MLSeq Version: 2.28.0 Command: /home/biocbuild/bbs-3.22-bioc/R/bin/R CMD check --install=check:MLSeq.install-out.txt --library=/home/biocbuild/bbs-3.22-bioc/R/site-library --timings MLSeq_2.28.0.tar.gz StartedAt: 2025-11-12 01:38:13 -0500 (Wed, 12 Nov 2025) EndedAt: 2025-11-12 01:43:04 -0500 (Wed, 12 Nov 2025) EllapsedTime: 291.2 seconds RetCode: 0 Status: OK CheckDir: MLSeq.Rcheck Warnings: 0