Package: MLSeq Version: 2.26.0 Command: /Library/Frameworks/R.framework/Resources/bin/R CMD INSTALL MLSeq StartedAt: 2025-10-13 15:40:00 -0400 (Mon, 13 Oct 2025) EndedAt: 2025-10-13 15:41:14 -0400 (Mon, 13 Oct 2025) EllapsedTime: 74.7 seconds RetCode: 0 Status: OK