Package: MLSeq Version: 2.26.0 Command: rm -rf MLSeq.buildbin-libdir && mkdir MLSeq.buildbin-libdir && /Users/biocbuild/BBS/utils/build-universal.sh MLSeq_2.26.0.tar.gz /Library/Frameworks/R.framework/Resources/bin/R MLSeq.buildbin-libdir StartedAt: 2025-10-14 14:05:58 -0400 (Tue, 14 Oct 2025) EndedAt: 2025-10-14 14:08:03 -0400 (Tue, 14 Oct 2025) EllapsedTime: 125.1 seconds RetCode: 0 Status: OK PackageFile: MLSeq_2.26.0.tgz PackageFileSize: 1.065 MiB