Package: MLP Version: 1.58.0 Command: /home/biocbuild/bbs-3.22-bioc/R/bin/R CMD INSTALL MLP StartedAt: 2025-11-11 15:35:57 -0500 (Tue, 11 Nov 2025) EndedAt: 2025-11-11 15:36:10 -0500 (Tue, 11 Nov 2025) EllapsedTime: 12.5 seconds RetCode: 0 Status: OK