Package: MLP Version: 1.58.0 Command: /home/biocbuild/bbs-3.22-bioc/R/bin/R CMD check --install=check:MLP.install-out.txt --library=/home/biocbuild/bbs-3.22-bioc/R/site-library --timings MLP_1.58.0.tar.gz StartedAt: 2025-11-26 02:01:35 -0500 (Wed, 26 Nov 2025) EndedAt: 2025-11-26 02:13:42 -0500 (Wed, 26 Nov 2025) EllapsedTime: 727.6 seconds RetCode: 0 Status: OK CheckDir: MLP.Rcheck Warnings: 0