Package: MLP Version: 1.58.0 Command: /home/biocbuild/bbs-3.22-bioc/R/bin/R CMD build --keep-empty-dirs --no-resave-data --md5 MLP StartedAt: 2025-11-11 18:51:18 -0500 (Tue, 11 Nov 2025) EndedAt: 2025-11-11 18:52:09 -0500 (Tue, 11 Nov 2025) EllapsedTime: 51.0 seconds RetCode: 0 Status: OK PackageFile: MLP_1.58.0.tar.gz PackageFileSize: 4.286 MiB