Package: MLP Version: 1.58.0 Command: /Library/Frameworks/R.framework/Resources/bin/R CMD INSTALL MLP StartedAt: 2025-11-03 15:33:49 -0500 (Mon, 03 Nov 2025) EndedAt: 2025-11-03 15:34:06 -0500 (Mon, 03 Nov 2025) EllapsedTime: 16.4 seconds RetCode: 0 Status: OK