Package: MLP Version: 1.58.0 Command: /Library/Frameworks/R.framework/Resources/bin/R CMD build --keep-empty-dirs --no-resave-data MLP StartedAt: 2025-11-03 17:47:54 -0500 (Mon, 03 Nov 2025) EndedAt: 2025-11-03 17:49:05 -0500 (Mon, 03 Nov 2025) EllapsedTime: 70.6 seconds RetCode: 0 Status: OK PackageFile: MLP_1.58.0.tar.gz PackageFileSize: 4.284 MiB