Package: MLP Version: 1.56.0 Command: /home/biocbuild/R/R/bin/R CMD build --keep-empty-dirs --no-resave-data MLP StartedAt: 2025-10-14 02:35:30 -0000 (Tue, 14 Oct 2025) EndedAt: 2025-10-14 02:36:41 -0000 (Tue, 14 Oct 2025) EllapsedTime: 71.0 seconds RetCode: 0 Status: OK PackageFile: MLP_1.56.0.tar.gz PackageFileSize: 4.277 MiB