Package: MLInterfaces Version: 1.90.0 Command: /home/biocbuild/R/R/bin/R CMD INSTALL MLInterfaces StartedAt: 2025-11-10 21:35:31 -0000 (Mon, 10 Nov 2025) EndedAt: 2025-11-10 21:36:14 -0000 (Mon, 10 Nov 2025) EllapsedTime: 42.8 seconds RetCode: 0 Status: OK