Package: MLInterfaces Version: 1.90.0 Command: /home/biocbuild/R/R/bin/R CMD build --keep-empty-dirs --no-resave-data MLInterfaces StartedAt: 2025-11-14 03:23:48 -0000 (Fri, 14 Nov 2025) EndedAt: 2025-11-14 03:25:14 -0000 (Fri, 14 Nov 2025) EllapsedTime: 86.1 seconds RetCode: 0 Status: OK PackageFile: MLInterfaces_1.90.0.tar.gz PackageFileSize: 1.661 MiB