Package: MLInterfaces Version: 1.90.0 Command: /home/biocbuild/bbs-3.22-bioc/R/bin/R CMD INSTALL MLInterfaces StartedAt: 2025-11-13 15:29:30 -0500 (Thu, 13 Nov 2025) EndedAt: 2025-11-13 15:30:00 -0500 (Thu, 13 Nov 2025) EllapsedTime: 30.3 seconds RetCode: 0 Status: OK