Package: MLInterfaces Version: 1.90.0 Command: /home/biocbuild/bbs-3.22-bioc/R/bin/R CMD build --keep-empty-dirs --no-resave-data --md5 MLInterfaces StartedAt: 2025-11-13 18:48:25 -0500 (Thu, 13 Nov 2025) EndedAt: 2025-11-13 18:49:30 -0500 (Thu, 13 Nov 2025) EllapsedTime: 65.0 seconds RetCode: 0 Status: OK PackageFile: MLInterfaces_1.90.0.tar.gz PackageFileSize: 2.803 MiB