Package: MIRit Version: 1.6.0 Command: /home/biocbuild/bbs-3.22-bioc/R/bin/R CMD INSTALL MIRit StartedAt: 2025-10-31 15:59:28 -0400 (Fri, 31 Oct 2025) EndedAt: 2025-10-31 16:00:10 -0400 (Fri, 31 Oct 2025) EllapsedTime: 42.0 seconds RetCode: 0 Status: OK