Package: MICSQTL Version: 1.8.0 Command: /home/biocbuild/bbs-3.22-bioc/R/bin/R CMD build --keep-empty-dirs --no-resave-data --md5 MICSQTL StartedAt: 2025-11-11 18:47:12 -0500 (Tue, 11 Nov 2025) EndedAt: 2025-11-11 18:47:56 -0500 (Tue, 11 Nov 2025) EllapsedTime: 44.0 seconds RetCode: 0 Status: OK PackageFile: MICSQTL_1.8.0.tar.gz PackageFileSize: 3.086 MiB