Package: MICSQTL Version: 1.6.0 Command: /home/biocbuild/R/R/bin/R CMD INSTALL MICSQTL StartedAt: 2025-10-02 20:48:28 -0000 (Thu, 02 Oct 2025) EndedAt: 2025-10-02 20:49:05 -0000 (Thu, 02 Oct 2025) EllapsedTime: 37.4 seconds RetCode: 0 Status: OK