Package: MICSQTL Version: 1.6.0 Command: /home/biocbuild/R/R/bin/R CMD build --keep-empty-dirs --no-resave-data MICSQTL StartedAt: 2025-10-03 02:31:43 -0000 (Fri, 03 Oct 2025) EndedAt: 2025-10-03 02:32:41 -0000 (Fri, 03 Oct 2025) EllapsedTime: 58.0 seconds RetCode: 0 Status: OK PackageFile: MICSQTL_1.6.0.tar.gz PackageFileSize: 3.109 MiB