Package: MICSQTL Version: 1.6.0 Command: /Library/Frameworks/R.framework/Resources/bin/R CMD INSTALL MICSQTL StartedAt: 2025-10-13 17:00:02 -0400 (Mon, 13 Oct 2025) EndedAt: 2025-10-13 17:00:34 -0400 (Mon, 13 Oct 2025) EllapsedTime: 32.6 seconds RetCode: 0 Status: OK