Package: MICSQTL Version: 1.8.0 Maintainer: Qian Li MaintainerEmail: qian.li at stjude.org git_url: https://git.bioconductor.org/packages/MICSQTL git_branch: RELEASE_3_22 git_last_commit: d51e216 git_last_commit_date: 2025-10-29 11:24:12 -0400 (Wed, 29 Oct 2025)