Package: MGnifyR Version: 1.6.0 Command: /home/biocbuild/bbs-3.22-bioc/R/bin/R CMD INSTALL MGnifyR StartedAt: 2025-11-11 16:03:07 -0500 (Tue, 11 Nov 2025) EndedAt: 2025-11-11 16:03:20 -0500 (Tue, 11 Nov 2025) EllapsedTime: 13.3 seconds RetCode: 1 Status: ERROR