############################################################################## ############################################################################## ### ### Running command: ### ### /home/biocbuild/bbs-3.22-bioc/R/bin/R CMD INSTALL MGnifyR ### ############################################################################## ############################################################################## * installing to library ‘/home/biocbuild/bbs-3.22-bioc/R/site-library’ * installing *source* package ‘MGnifyR’ ... ** this is package ‘MGnifyR’ version ‘1.6.0’ ** using staged installation ** R ** inst ** byte-compile and prepare package for lazy loading Error: object ‘at_depth’ is not exported by 'namespace:purrr' Execution halted ERROR: lazy loading failed for package ‘MGnifyR’ * removing ‘/home/biocbuild/bbs-3.22-bioc/R/site-library/MGnifyR’ * restoring previous ‘/home/biocbuild/bbs-3.22-bioc/R/site-library/MGnifyR’