Package: MGnifyR Version: 1.6.0 Command: /home/biocbuild/bbs-3.22-bioc/R/bin/R CMD build --keep-empty-dirs --no-resave-data --md5 MGnifyR StartedAt: 2025-11-11 18:45:54 -0500 (Tue, 11 Nov 2025) EndedAt: 2025-11-11 18:46:08 -0500 (Tue, 11 Nov 2025) EllapsedTime: 14.0 seconds RetCode: 1 Status: ERROR PackageFile: None PackageFileSize: NA