############################################################################## ############################################################################## ### ### Running command: ### ### /home/biocbuild/bbs-3.22-bioc/R/bin/R CMD build --keep-empty-dirs --no-resave-data --md5 MGnifyR ### ############################################################################## ############################################################################## * checking for file ‘MGnifyR/DESCRIPTION’ ... OK * preparing ‘MGnifyR’: * checking DESCRIPTION meta-information ... OK * installing the package to build vignettes ----------------------------------- * installing *source* package ‘MGnifyR’ ... ** this is package ‘MGnifyR’ version ‘1.6.0’ ** using staged installation ** R ** inst ** byte-compile and prepare package for lazy loading Error: object ‘at_depth’ is not exported by 'namespace:purrr' Execution halted ERROR: lazy loading failed for package ‘MGnifyR’ * removing ‘/tmp/RtmpGkxhVV/Rinst27c6a6238bd958/MGnifyR’ ----------------------------------- ERROR: package installation failed