Package: MGnifyR Version: 1.4.0 Command: /home/biocbuild/R/R/bin/R CMD INSTALL MGnifyR StartedAt: 2025-10-13 21:19:24 -0000 (Mon, 13 Oct 2025) EndedAt: 2025-10-13 21:20:22 -0000 (Mon, 13 Oct 2025) EllapsedTime: 58.3 seconds RetCode: 0 Status: OK