Package: MGnifyR Version: 1.6.0 Command: /Library/Frameworks/R.framework/Resources/bin/R CMD INSTALL MGnifyR StartedAt: 2025-11-02 15:31:02 -0500 (Sun, 02 Nov 2025) EndedAt: 2025-11-02 15:31:18 -0500 (Sun, 02 Nov 2025) EllapsedTime: 16.6 seconds RetCode: 0 Status: OK