Package: MGnifyR Version: 1.6.0 Command: /Library/Frameworks/R.framework/Resources/bin/R CMD build --keep-empty-dirs --no-resave-data MGnifyR StartedAt: 2025-10-31 17:03:46 -0400 (Fri, 31 Oct 2025) EndedAt: 2025-10-31 17:04:28 -0400 (Fri, 31 Oct 2025) EllapsedTime: 42.4 seconds RetCode: 0 Status: OK PackageFile: MGnifyR_1.6.0.tar.gz PackageFileSize: 4.298 MiB