Package: MGnifyR Version: 1.6.0 Command: rm -rf MGnifyR.buildbin-libdir && mkdir MGnifyR.buildbin-libdir && /Users/biocbuild/BBS/utils/build-universal.sh MGnifyR_1.6.0.tar.gz /Library/Frameworks/R.framework/Resources/bin/R MGnifyR.buildbin-libdir StartedAt: 2025-10-31 23:13:47 -0400 (Fri, 31 Oct 2025) EndedAt: 2025-10-31 23:14:06 -0400 (Fri, 31 Oct 2025) EllapsedTime: 18.3 seconds RetCode: 0 Status: OK PackageFile: MGnifyR_1.6.0.tgz PackageFileSize: 4.385 MiB