Package: MGFR Version: 1.36.0 Command: /home/biocbuild/bbs-3.22-bioc/R/bin/R CMD INSTALL MGFR StartedAt: 2025-11-17 17:19:53 -0500 (Mon, 17 Nov 2025) EndedAt: 2025-11-17 17:20:07 -0500 (Mon, 17 Nov 2025) EllapsedTime: 13.9 seconds RetCode: 0 Status: OK