Package: MGFM Version: 1.44.0 Command: /Library/Frameworks/R.framework/Resources/bin/R CMD INSTALL MGFM StartedAt: 2025-11-10 15:09:31 -0500 (Mon, 10 Nov 2025) EndedAt: 2025-11-10 15:09:37 -0500 (Mon, 10 Nov 2025) EllapsedTime: 5.7 seconds RetCode: 0 Status: OK