Package: MGFM Version: 1.44.0 Command: /Library/Frameworks/R.framework/Resources/bin/R CMD build --keep-empty-dirs --no-resave-data MGFM StartedAt: 2025-11-10 17:00:37 -0500 (Mon, 10 Nov 2025) EndedAt: 2025-11-10 17:00:53 -0500 (Mon, 10 Nov 2025) EllapsedTime: 16.2 seconds RetCode: 0 Status: OK PackageFile: MGFM_1.44.0.tar.gz PackageFileSize: 3.491 MiB