Package: MEIGOR Version: 1.44.0 Command: /home/biocbuild/bbs-3.22-bioc/R/bin/R CMD INSTALL MEIGOR StartedAt: 2025-11-11 15:28:06 -0500 (Tue, 11 Nov 2025) EndedAt: 2025-11-11 15:28:17 -0500 (Tue, 11 Nov 2025) EllapsedTime: 10.3 seconds RetCode: 0 Status: OK