Package: MEDME Version: 1.70.0 Command: /home/biocbuild/bbs-3.22-bioc/R/bin/R CMD INSTALL MEDME StartedAt: 2025-11-13 15:33:49 -0500 (Thu, 13 Nov 2025) EndedAt: 2025-11-13 15:34:02 -0500 (Thu, 13 Nov 2025) EllapsedTime: 13.8 seconds RetCode: 0 Status: OK