Package: MEDIPS Version: 1.62.0 Command: /home/biocbuild/bbs-3.22-bioc/R/bin/R CMD INSTALL MEDIPS StartedAt: 2025-10-31 15:37:18 -0400 (Fri, 31 Oct 2025) EndedAt: 2025-10-31 15:38:01 -0400 (Fri, 31 Oct 2025) EllapsedTime: 43.2 seconds RetCode: 0 Status: OK