Package: MEDIPS Version: 1.62.0 Command: /home/biocbuild/bbs-3.22-bioc/R/bin/R CMD build --keep-empty-dirs --no-resave-data --md5 MEDIPS StartedAt: 2025-11-02 18:46:25 -0500 (Sun, 02 Nov 2025) EndedAt: 2025-11-02 18:48:07 -0500 (Sun, 02 Nov 2025) EllapsedTime: 102.1 seconds RetCode: 0 Status: OK PackageFile: MEDIPS_1.62.0.tar.gz PackageFileSize: 324.1 KiB