Package: MEB Version: 1.24.0 Command: /Library/Frameworks/R.framework/Resources/bin/R CMD build --keep-empty-dirs --no-resave-data MEB StartedAt: 2025-11-10 16:55:16 -0500 (Mon, 10 Nov 2025) EndedAt: 2025-11-10 16:55:36 -0500 (Mon, 10 Nov 2025) EllapsedTime: 19.2 seconds RetCode: 0 Status: OK PackageFile: MEB_1.24.0.tar.gz PackageFileSize: 1.02 MiB