Package: MEAL Version: 1.40.0 Command: /Library/Frameworks/R.framework/Resources/bin/R CMD INSTALL MEAL StartedAt: 2025-11-10 15:34:30 -0500 (Mon, 10 Nov 2025) EndedAt: 2025-11-10 15:34:44 -0500 (Mon, 10 Nov 2025) EllapsedTime: 14.5 seconds RetCode: 0 Status: OK